BEGIN:VCALENDAR
VERSION:2.0
PRODID:-//Plone.org//NONSGML plone.app.event//EN
X-WR-TIMEZONE:Brazil/East
BEGIN:VEVENT
SUMMARY:Reuniao Ordinária
DTSTART;TZID=Brazil/East;VALUE=DATE-TIME:20260420T140000
DTEND;TZID=Brazil/East;VALUE=DATE-TIME:20260420T180000
DTSTAMP;VALUE=DATE-TIME:20260420T004230Z
UID:3038b044056d4fb3aa1b7843679d94af@www.formiga.mg.leg.br
CREATED;VALUE=DATE-TIME:20260304T192714Z
DESCRIPTION:Sessões Ordinárias no Plenário 
LAST-MODIFIED;VALUE=DATE-TIME:20260304T192719Z
URL:https://www.formiga.mg.leg.br/institucional/eventos/reuniao-ordinaria/
 2026-04-20
END:VEVENT
BEGIN:VTIMEZONE
TZID:Brazil/East
X-LIC-LOCATION:Brazil/East
BEGIN:STANDARD
DTSTART;VALUE=DATE-TIME:20260221T230000
TZNAME:BRT
TZOFFSETFROM:-0200
TZOFFSETTO:-0300
END:STANDARD
END:VTIMEZONE
END:VCALENDAR
