BEGIN:VCALENDAR
VERSION:2.0
PRODID:-//Plone.org//NONSGML plone.app.event//EN
X-WR-TIMEZONE:Brazil/East
BEGIN:VEVENT
SUMMARY:ENCONTRO NACIONAL DO PODER LEGISLATIVO MUNICIPAL
DTSTART;VALUE=DATE:20260304
DTEND;VALUE=DATE:20260307
DTSTAMP;VALUE=DATE-TIME:20260423T010009Z
UID:8cf9f32171dc4c6e8209001848f86ede@www.formiga.mg.leg.br
ATTENDEE;CN="Vereadores Flavio Martins da Silva, Osânia Iraci da Silva, W
 olkmar Geraldo Menezes e Jaci Honório de Paula e os assessores parlamenta
 res Micaely Alzira de Oliveira, Marcelo Pereira Ramos e Gislene Maria Pint
 o";ROLE=REQ-PARTICIPANT:Vereadores Flavio Martins da Silva, Osânia Iraci 
 da Silva, Wolkmar Geraldo Menezes e Jaci Honório de Paula e os assessores
  parlamentares Micaely Alzira de Oliveira, Marcelo Pereira Ramos e Gislene
  Maria Pinto
CONTACT:Jaci Honorio de Paula
CREATED;VALUE=DATE-TIME:20260304T193432Z
DESCRIPTION:ENCONTRO NACIONAL DO PODER LEGISLATIVO MUNICIPAL\nrealizado na
  cidade de Brasilia-DF
LAST-MODIFIED;VALUE=DATE-TIME:20260304T193438Z
URL:https://www.formiga.mg.leg.br/institucional/eventos/encontro-nacional-
 do-poder-legislativo-municipal
END:VEVENT
BEGIN:VEVENT
SUMMARY:1º Ano do Site
DTSTART;TZID=Brazil/East;VALUE=DATE-TIME:20260214T000000
DTEND;TZID=Brazil/East;VALUE=DATE-TIME:20260214T235959
DTSTAMP;VALUE=DATE-TIME:20260423T010009Z
UID:52291854028a4c07920d17e5c0449e5e
CREATED;VALUE=DATE-TIME:20250214T191853Z
DESCRIPTION:Aniversário de primeiro ano do site desta Casa Legislativa. (
 este evento é um conteúdo de exemplo e pode ser removido)
LAST-MODIFIED;VALUE=DATE-TIME:20250214T191906Z
URL:https://www.formiga.mg.leg.br/institucional/eventos/1o-ano-do-site
END:VEVENT
BEGIN:VEVENT
SUMMARY:Reuniao Ordinária
DTSTART;TZID=Brazil/East;VALUE=DATE-TIME:20260105T140000
DTEND;TZID=Brazil/East;VALUE=DATE-TIME:20260105T180000
DTSTAMP;VALUE=DATE-TIME:20260423T010009Z
UID:3038b044056d4fb3aa1b7843679d94af@www.formiga.mg.leg.br
CREATED;VALUE=DATE-TIME:20260304T192714Z
DESCRIPTION:Sessões Ordinárias no Plenário 
LAST-MODIFIED;VALUE=DATE-TIME:20260304T192719Z
RRULE:FREQ=WEEKLY;UNTIL=20261231T000000;BYDAY=MO
URL:https://www.formiga.mg.leg.br/institucional/eventos/reuniao-ordinaria
END:VEVENT
BEGIN:VEVENT
SUMMARY:Audiência Publica Ministério Público
DTSTART;TZID=Brazil/East;VALUE=DATE-TIME:20250701T183000
DTEND;TZID=Brazil/East;VALUE=DATE-TIME:20250701T210000
DTSTAMP;VALUE=DATE-TIME:20260423T010009Z
UID:ab9d9cfd0b5e4bedb8dd7e44e6832495@www.formiga.mg.leg.br
ATTENDEE;CN="A participação será aberta a todas as pessoas interessadas
  e as inscrições para exposição e uso da fala serão colhidas presenci
 almente na data e local da audiência, iniciando-se os respectivos cadastr
 amentos 30 minutos antes do início dos trabalhos.";ROLE=REQ-PARTICIPANT:A
  participação será aberta a todas as pessoas interessadas e as inscriç
 ões para exposição e uso da fala serão colhidas presencialmente na dat
 a e local da audiência, iniciando-se os respectivos cadastramentos 30 min
 utos antes do início dos trabalhos.
CONTACT:https://www.mpmg.mp.br/portal/menu/comunicacao/eventos-programas-e
 -acoes/mpmg-promove-audiencia-publica-sobre-impactos-da-ausencia-de-limita
 cao-de-horario-de-funcionamento-das-lojas-de-conveniencia-e-casas-de-show-
 na-seguranca-publica-de-formiga.shtml
CREATED;VALUE=DATE-TIME:20250625T132223Z
DESCRIPTION:MPMG promove Audiência Pública sobre impactos da ausência d
 e limitação de horário de funcionamento das lojas de conveniência e ca
 sas de show na segurança pública de Formiga
LAST-MODIFIED;VALUE=DATE-TIME:20250625T132228Z
LOCATION:Câmara Municipal de Formiga
URL:https://www.formiga.mg.leg.br/institucional/eventos/audiencia-publica-
 ministerio-publico
END:VEVENT
BEGIN:VTIMEZONE
TZID:Brazil/East
X-LIC-LOCATION:Brazil/East
BEGIN:STANDARD
DTSTART;VALUE=DATE-TIME:20250215T230000
TZNAME:BRT
TZOFFSETFROM:-0200
TZOFFSETTO:-0300
END:STANDARD
BEGIN:DAYLIGHT
DTSTART;VALUE=DATE-TIME:20251019T010000
TZNAME:BRST
TZOFFSETFROM:-0300
TZOFFSETTO:-0200
END:DAYLIGHT
END:VTIMEZONE
END:VCALENDAR
